BEGIN:VCALENDAR
VERSION:2.0
PRODID:-//jEvents 2.0 for Joomla//EN
CALSCALE:GREGORIAN
METHOD:PUBLISH
BEGIN:VTIMEZONE
TZID:Europe/Lisbon
END:VTIMEZONE
BEGIN:VEVENT
UID:2f6d1659b90e787541f764ae97a0ad0a
CATEGORIES:Santos
SUMMARY:Filipe II de Moscovo
DESCRIPTION;ENCODING=QUOTED-PRINTABLE:\n\n\nNascido numa família aristocrata, Feodor Kolychev foi levado em crian
 ça para o círculo da família real russa, tornando-se amigo do princípe herd
 eiro, que em 1533, viria a tornar-se o czar Ivan IV, o terrível. Feodor ter
 á muito provavelmente servido ativamente como soldado. Por volta do ano 153
 7 viu-se envolvido numa conspiração de golpe de Estado e foi obrigado a fug
 ir, indo refugiar-se no mosteiro de Solovetsky, no Mar Branco. Em 1547, che
 ga a abade, adoptando então o nome de Filipe. \nNo ano 1565, Filipe II de M
 oscovo é eleito arcebispo de Moscovo. \n\nNascimento: 1507 d.C. em Galich, 
 Rússia\nMorte: 1569 d.C. em Tver, Rússia\n
DTSTAMP:20260420T135132Z
DTSTART;TZID=Europe/Lisbon;VALUE=DATE:20230109
DTEND;TZID=Europe/Lisbon;VALUE=DATE:20230110
SEQUENCE:0
TRANSP:OPAQUE
END:VEVENT
END:VCALENDAR