BEGIN:VCALENDAR
VERSION:2.0
PRODID:-//jEvents 2.0 for Joomla//EN
CALSCALE:GREGORIAN
METHOD:PUBLISH
BEGIN:VTIMEZONE
TZID:Europe/Lisbon
END:VTIMEZONE
BEGIN:VEVENT
UID:14815a2bcbdab041c341c0543d3de9be
CATEGORIES:Santos
SUMMARY:Beato Gaspar Stanggassinger
DESCRIPTION;ENCODING=QUOTED-PRINTABLE:
DTSTAMP:20260425T140947Z
DTSTART;TZID=Europe/Lisbon;VALUE=DATE:20370926
DTEND;TZID=Europe/Lisbon;VALUE=DATE:20370927
SEQUENCE:0
TRANSP:OPAQUE
END:VEVENT
END:VCALENDAR