BEGIN:VCALENDAR
VERSION:2.0
PRODID:-//jEvents 2.0 for Joomla//EN
CALSCALE:GREGORIAN
METHOD:PUBLISH
BEGIN:VTIMEZONE
TZID:Europe/Lisbon
END:VTIMEZONE
BEGIN:VEVENT
UID:fce02c72b3942ab53e488b0143a10b84
CATEGORIES:Santos
SUMMARY:Beato Aurélio de Vinalesa e companheiros
DESCRIPTION;ENCODING=QUOTED-PRINTABLE:
DTSTAMP:20260419T165132Z
DTSTART;TZID=Europe/Lisbon;VALUE=DATE:20240926
DTEND;TZID=Europe/Lisbon;VALUE=DATE:20240927
SEQUENCE:0
TRANSP:OPAQUE
END:VEVENT
END:VCALENDAR