BEGIN:VCALENDAR
VERSION:2.0
PRODID:-//jEvents 2.0 for Joomla//EN
CALSCALE:GREGORIAN
METHOD:PUBLISH
BEGIN:VTIMEZONE
TZID:Europe/Lisbon
END:VTIMEZONE
BEGIN:VEVENT
UID:79ff195c741eee46823a4c992e5c7f12
CATEGORIES:Santos
SUMMARY:Beata Delfina
DESCRIPTION;ENCODING=QUOTED-PRINTABLE:
DTSTAMP:20260425T135015Z
DTSTART;TZID=Europe/Lisbon;VALUE=DATE:20370926
DTEND;TZID=Europe/Lisbon;VALUE=DATE:20370927
SEQUENCE:0
TRANSP:OPAQUE
END:VEVENT
END:VCALENDAR