BEGIN:VCALENDAR
VERSION:2.0
PRODID:-//jEvents 2.0 for Joomla//EN
CALSCALE:GREGORIAN
METHOD:PUBLISH
BEGIN:VEVENT
UID:787752104012f03ad7a8f0f029d19c2a
CATEGORIES:Santos
SUMMARY:São Cosme e São Damião
DESCRIPTION;ENCODING=QUOTED-PRINTABLE:
DTSTAMP:20260425T125701Z
DTSTART;TZID=Europe/Lisbon;VALUE=DATE:20410926
DTEND;TZID=Europe/Lisbon;VALUE=DATE:20410927
SEQUENCE:0
TRANSP:OPAQUE
END:VEVENT
END:VCALENDAR