BEGIN:VCALENDAR
VERSION:2.0
PRODID:-//jEvents 2.0 for Joomla//EN
CALSCALE:GREGORIAN
METHOD:PUBLISH
BEGIN:VEVENT
UID:e6d997546c81f75b6df40e48623538a0
CATEGORIES:Santos
SUMMARY:São Cleófas
DESCRIPTION;ENCODING=QUOTED-PRINTABLE:
DTSTAMP:20260425T182143Z
DTSTART;TZID=Europe/Lisbon;VALUE=DATE:20490925
DTEND;TZID=Europe/Lisbon;VALUE=DATE:20490926
SEQUENCE:0
TRANSP:OPAQUE
END:VEVENT
END:VCALENDAR