BEGIN:VCALENDAR
VERSION:2.0
PRODID:-//jEvents 2.0 for Joomla//EN
CALSCALE:GREGORIAN
METHOD:PUBLISH
BEGIN:VTIMEZONE
TZID:Europe/Lisbon
END:VTIMEZONE
BEGIN:VEVENT
UID:e6d997546c81f75b6df40e48623538a0
CATEGORIES:Santos
SUMMARY:São Cleófas
DESCRIPTION;ENCODING=QUOTED-PRINTABLE:
DTSTAMP:20260419T163708Z
DTSTART;TZID=Europe/Lisbon;VALUE=DATE:20240925
DTEND;TZID=Europe/Lisbon;VALUE=DATE:20240926
SEQUENCE:0
TRANSP:OPAQUE
END:VEVENT
END:VCALENDAR