BEGIN:VCALENDAR
VERSION:2.0
PRODID:-//jEvents 2.0 for Joomla//EN
CALSCALE:GREGORIAN
METHOD:PUBLISH
BEGIN:VTIMEZONE
TZID:Europe/Lisbon
END:VTIMEZONE
BEGIN:VEVENT
UID:f8b94e0036efc37cef4f5ebef80c5252
CATEGORIES:Santos
SUMMARY:Beata Josefa Naval Girbés
DESCRIPTION;ENCODING=QUOTED-PRINTABLE:
DTSTAMP:20260419T223016Z
DTSTART;TZID=Europe/Lisbon;VALUE=DATE:20260925
DTEND;TZID=Europe/Lisbon;VALUE=DATE:20260926
SEQUENCE:0
TRANSP:OPAQUE
END:VEVENT
END:VCALENDAR