BEGIN:VCALENDAR
VERSION:2.0
PRODID:-//jEvents 2.0 for Joomla//EN
CALSCALE:GREGORIAN
METHOD:PUBLISH
BEGIN:VEVENT
UID:2726867798bc669e30868183f099442d
CATEGORIES:Santos
SUMMARY:São Geraldo
DESCRIPTION;ENCODING=QUOTED-PRINTABLE:
DTSTAMP:20260425T125635Z
DTSTART;TZID=Europe/Lisbon;VALUE=DATE:20390924
DTEND;TZID=Europe/Lisbon;VALUE=DATE:20390925
SEQUENCE:0
TRANSP:OPAQUE
END:VEVENT
END:VCALENDAR