BEGIN:VCALENDAR
VERSION:2.0
PRODID:-//jEvents 2.0 for Joomla//EN
CALSCALE:GREGORIAN
METHOD:PUBLISH
BEGIN:VTIMEZONE
TZID:Europe/Lisbon
END:VTIMEZONE
BEGIN:VEVENT
UID:80894f4c3302d1ecb0edeb3a465e9356
CATEGORIES:Santos
SUMMARY:São Vicente Maria Strambi
DESCRIPTION;ENCODING=QUOTED-PRINTABLE:
DTSTAMP:20260425T140303Z
DTSTART;TZID=Europe/Lisbon;VALUE=DATE:20370924
DTEND;TZID=Europe/Lisbon;VALUE=DATE:20370925
SEQUENCE:0
TRANSP:OPAQUE
END:VEVENT
END:VCALENDAR