BEGIN:VCALENDAR
VERSION:2.0
PRODID:-//jEvents 2.0 for Joomla//EN
CALSCALE:GREGORIAN
METHOD:PUBLISH
BEGIN:VTIMEZONE
TZID:Europe/Lisbon
END:VTIMEZONE
BEGIN:VEVENT
UID:86b79fe341edf9954c4fad6be6c01033
CATEGORIES:Santos
SUMMARY:São Teda
DESCRIPTION;ENCODING=QUOTED-PRINTABLE:
DTSTAMP:20260425T135015Z
DTSTART;TZID=Europe/Lisbon;VALUE=DATE:20370923
DTEND;TZID=Europe/Lisbon;VALUE=DATE:20370924
SEQUENCE:0
TRANSP:OPAQUE
END:VEVENT
END:VCALENDAR