BEGIN:VCALENDAR
VERSION:2.0
PRODID:-//jEvents 2.0 for Joomla//EN
CALSCALE:GREGORIAN
METHOD:PUBLISH
BEGIN:VTIMEZONE
TZID:Europe/Lisbon
END:VTIMEZONE
BEGIN:VEVENT
UID:1fc21f890962d5b284ec6edede7b1009
CATEGORIES:Santos
SUMMARY:São Lino
DESCRIPTION;ENCODING=QUOTED-PRINTABLE:
DTSTAMP:20260425T135016Z
DTSTART;TZID=Europe/Lisbon;VALUE=DATE:20370923
DTEND;TZID=Europe/Lisbon;VALUE=DATE:20370924
SEQUENCE:0
TRANSP:OPAQUE
END:VEVENT
END:VCALENDAR