BEGIN:VCALENDAR
VERSION:2.0
PRODID:-//jEvents 2.0 for Joomla//EN
CALSCALE:GREGORIAN
METHOD:PUBLISH
BEGIN:VTIMEZONE
TZID:Europe/Lisbon
END:VTIMEZONE
BEGIN:VEVENT
UID:2e62822b97829c8c67d76f65491e17e0
CATEGORIES:Santos
SUMMARY:Beatos Amparo Carbonell Muñoz, Carmen Moreno Benítez, José Calasanz, Henrici Sáiz e companheiros
DESCRIPTION;ENCODING=QUOTED-PRINTABLE:
DTSTAMP:20260420T090845Z
DTSTART;TZID=Europe/Lisbon;VALUE=DATE:20280922
DTEND;TZID=Europe/Lisbon;VALUE=DATE:20280923
SEQUENCE:0
TRANSP:OPAQUE
END:VEVENT
END:VCALENDAR