BEGIN:VCALENDAR
VERSION:2.0
PRODID:-//jEvents 2.0 for Joomla//EN
CALSCALE:GREGORIAN
METHOD:PUBLISH
BEGIN:VTIMEZONE
TZID:Europe/Lisbon
END:VTIMEZONE
BEGIN:VEVENT
UID:3cb7e42b1d7a76d0278ab085fd89e3ff
CATEGORIES:Santos
SUMMARY:Beato João Maria da Cruz
DESCRIPTION;ENCODING=QUOTED-PRINTABLE:
DTSTAMP:20260426T053801Z
DTSTART;TZID=Europe/Lisbon;VALUE=DATE:20310922
DTEND;TZID=Europe/Lisbon;VALUE=DATE:20310923
SEQUENCE:0
TRANSP:OPAQUE
END:VEVENT
END:VCALENDAR