BEGIN:VCALENDAR
VERSION:2.0
PRODID:-//jEvents 2.0 for Joomla//EN
CALSCALE:GREGORIAN
METHOD:PUBLISH
BEGIN:VTIMEZONE
TZID:Europe/Lisbon
END:VTIMEZONE
BEGIN:VEVENT
UID:cf8803c22c5f7c4de2e11537a4deb785
CATEGORIES:Santos
SUMMARY:Santo Inácio de Santhia
DESCRIPTION;ENCODING=QUOTED-PRINTABLE:
DTSTAMP:20260425T143431Z
DTSTART;TZID=Europe/Lisbon;VALUE=DATE:20350922
DTEND;TZID=Europe/Lisbon;VALUE=DATE:20350923
SEQUENCE:0
TRANSP:OPAQUE
END:VEVENT
END:VCALENDAR