BEGIN:VCALENDAR
VERSION:2.0
PRODID:-//jEvents 2.0 for Joomla//EN
CALSCALE:GREGORIAN
METHOD:PUBLISH
BEGIN:VEVENT
UID:cbbfb71925d6019fca998177868a936f
CATEGORIES:Santos
SUMMARY:Beata Josefa da Purificação Maria Ferragut
DESCRIPTION;ENCODING=QUOTED-PRINTABLE:
DTSTAMP:20260424T174225Z
DTSTART;TZID=Europe/Lisbon;VALUE=DATE:20420922
DTEND;TZID=Europe/Lisbon;VALUE=DATE:20420923
SEQUENCE:0
TRANSP:OPAQUE
END:VEVENT
END:VCALENDAR