BEGIN:VCALENDAR
VERSION:2.0
PRODID:-//jEvents 2.0 for Joomla//EN
CALSCALE:GREGORIAN
METHOD:PUBLISH
BEGIN:VTIMEZONE
TZID:Europe/Lisbon
END:VTIMEZONE
BEGIN:VEVENT
UID:6ddbcf6d0dcac9d52bb4bee249b6f43b
CATEGORIES:Santos
SUMMARY:Santa Maura de Troyes
DESCRIPTION;ENCODING=QUOTED-PRINTABLE:
DTSTAMP:20260425T174236Z
DTSTART;TZID=Europe/Lisbon;VALUE=DATE:20350921
DTEND;TZID=Europe/Lisbon;VALUE=DATE:20350922
SEQUENCE:0
TRANSP:OPAQUE
END:VEVENT
END:VCALENDAR