BEGIN:VCALENDAR
VERSION:2.0
PRODID:-//jEvents 2.0 for Joomla//EN
CALSCALE:GREGORIAN
METHOD:PUBLISH
BEGIN:VEVENT
UID:ea9335a941b95aad6b56e694a0d87ffb
CATEGORIES:Santos
SUMMARY:Santa Efigénia
DESCRIPTION;ENCODING=QUOTED-PRINTABLE:
DTSTAMP:20260425T111818Z
DTSTART;TZID=Europe/Lisbon;VALUE=DATE:20400921
DTEND;TZID=Europe/Lisbon;VALUE=DATE:20400922
SEQUENCE:0
TRANSP:OPAQUE
END:VEVENT
END:VCALENDAR