BEGIN:VCALENDAR
VERSION:2.0
PRODID:-//jEvents 2.0 for Joomla//EN
CALSCALE:GREGORIAN
METHOD:PUBLISH
BEGIN:VEVENT
UID:d456fc8e3ec6e45a2abad0e500a79ff0
CATEGORIES:Santos
SUMMARY:São Mateus
DESCRIPTION;ENCODING=QUOTED-PRINTABLE:
DTSTAMP:20260424T230421Z
DTSTART;TZID=Europe/Lisbon;VALUE=DATE:20410921
DTEND;TZID=Europe/Lisbon;VALUE=DATE:20410922
SEQUENCE:0
TRANSP:OPAQUE
END:VEVENT
END:VCALENDAR