BEGIN:VCALENDAR
VERSION:2.0
PRODID:-//jEvents 2.0 for Joomla//EN
CALSCALE:GREGORIAN
METHOD:PUBLISH
BEGIN:VEVENT
UID:e8ed29971980520f6c86934c8e9e8829
CATEGORIES:Santos
SUMMARY:Santos, mártires e missionários do Pacífico
DESCRIPTION;ENCODING=QUOTED-PRINTABLE:
DTSTAMP:20260425T135015Z
DTSTART;TZID=Europe/Lisbon;VALUE=DATE:20500920
DTEND;TZID=Europe/Lisbon;VALUE=DATE:20500921
SEQUENCE:0
TRANSP:OPAQUE
END:VEVENT
END:VCALENDAR