BEGIN:VCALENDAR
VERSION:2.0
PRODID:-//jEvents 2.0 for Joomla//EN
CALSCALE:GREGORIAN
METHOD:PUBLISH
BEGIN:VTIMEZONE
TZID:Europe/Lisbon
END:VTIMEZONE
BEGIN:VEVENT
UID:6f9530182f997a4e02a39401123af56e
CATEGORIES:Santos
SUMMARY:Eustácio
DESCRIPTION;ENCODING=QUOTED-PRINTABLE:
DTSTAMP:20260425T143056Z
DTSTART;TZID=Europe/Lisbon;VALUE=DATE:20380920
DTEND;TZID=Europe/Lisbon;VALUE=DATE:20380921
SEQUENCE:0
TRANSP:OPAQUE
END:VEVENT
END:VCALENDAR