BEGIN:VCALENDAR
VERSION:2.0
PRODID:-//jEvents 2.0 for Joomla//EN
CALSCALE:GREGORIAN
METHOD:PUBLISH
BEGIN:VTIMEZONE
TZID:Europe/Lisbon
END:VTIMEZONE
BEGIN:VEVENT
UID:1f6df8dbe6db062613db08fe0b2bde80
CATEGORIES:Santos
SUMMARY:Mártires Coreanos
DESCRIPTION;ENCODING=QUOTED-PRINTABLE:
DTSTAMP:20260425T135016Z
DTSTART;TZID=Europe/Lisbon;VALUE=DATE:20370920
DTEND;TZID=Europe/Lisbon;VALUE=DATE:20370921
SEQUENCE:0
TRANSP:OPAQUE
END:VEVENT
END:VCALENDAR