BEGIN:VCALENDAR
VERSION:2.0
PRODID:-//jEvents 2.0 for Joomla//EN
CALSCALE:GREGORIAN
METHOD:PUBLISH
BEGIN:VEVENT
UID:53003852dc651fbbcccf22d5344c5792
CATEGORIES:Santos
SUMMARY:São Paul Chang Hassang e companheiros
DESCRIPTION;ENCODING=QUOTED-PRINTABLE:
DTSTAMP:20260424T171937Z
DTSTART;TZID=Europe/Lisbon;VALUE=DATE:20420920
DTEND;TZID=Europe/Lisbon;VALUE=DATE:20420921
SEQUENCE:0
TRANSP:OPAQUE
END:VEVENT
END:VCALENDAR