BEGIN:VCALENDAR
VERSION:2.0
PRODID:-//jEvents 2.0 for Joomla//EN
CALSCALE:GREGORIAN
METHOD:PUBLISH
BEGIN:VEVENT
UID:e9d24672662dbfa29918446fc2e81e10
CATEGORIES:Santos
SUMMARY:Santo André Kim Taegon
DESCRIPTION;ENCODING=QUOTED-PRINTABLE:
DTSTAMP:20260425T043058Z
DTSTART;TZID=Europe/Lisbon;VALUE=DATE:20450920
DTEND;TZID=Europe/Lisbon;VALUE=DATE:20450921
SEQUENCE:0
TRANSP:OPAQUE
END:VEVENT
END:VCALENDAR