BEGIN:VCALENDAR
VERSION:2.0
PRODID:-//jEvents 2.0 for Joomla//EN
CALSCALE:GREGORIAN
METHOD:PUBLISH
BEGIN:VEVENT
UID:dcddd75a9119737a8abb74647b0d70fe
CATEGORIES:Santos
SUMMARY:Nª Srª da Salete
DESCRIPTION;ENCODING=QUOTED-PRINTABLE:
DTSTAMP:20260426T045018Z
DTSTART;TZID=Europe/Lisbon;VALUE=DATE:20490919
DTEND;TZID=Europe/Lisbon;VALUE=DATE:20490920
SEQUENCE:0
TRANSP:OPAQUE
END:VEVENT
END:VCALENDAR