BEGIN:VCALENDAR
VERSION:2.0
PRODID:-//jEvents 2.0 for Joomla//EN
CALSCALE:GREGORIAN
METHOD:PUBLISH
BEGIN:VEVENT
UID:20812e4a170d6f83e20000a594bef94a
CATEGORIES:Santos
SUMMARY:São Francisco Maria de Camporosso
DESCRIPTION;ENCODING=QUOTED-PRINTABLE:
DTSTAMP:20260425T114334Z
DTSTART;TZID=Europe/Lisbon;VALUE=DATE:20480919
DTEND;TZID=Europe/Lisbon;VALUE=DATE:20480920
SEQUENCE:0
TRANSP:OPAQUE
END:VEVENT
END:VCALENDAR