BEGIN:VCALENDAR
VERSION:2.0
PRODID:-//jEvents 2.0 for Joomla//EN
CALSCALE:GREGORIAN
METHOD:PUBLISH
BEGIN:VEVENT
UID:8c3fa49bd534261b3f8aa74d206f3d0f
CATEGORIES:Santos
SUMMARY:Santo Afonso de Orozeo
DESCRIPTION;ENCODING=QUOTED-PRINTABLE:
DTSTAMP:20260425T111817Z
DTSTART;TZID=Europe/Lisbon;VALUE=DATE:20400919
DTEND;TZID=Europe/Lisbon;VALUE=DATE:20400920
SEQUENCE:0
TRANSP:OPAQUE
END:VEVENT
END:VCALENDAR