BEGIN:VCALENDAR
VERSION:2.0
PRODID:-//jEvents 2.0 for Joomla//EN
CALSCALE:GREGORIAN
METHOD:PUBLISH
BEGIN:VEVENT
UID:8782a004cb473034c1c6d1a8c39f6264
CATEGORIES:Santos
SUMMARY:São Januário
DESCRIPTION;ENCODING=QUOTED-PRINTABLE:
DTSTAMP:20260425T111816Z
DTSTART;TZID=Europe/Lisbon;VALUE=DATE:20400919
DTEND;TZID=Europe/Lisbon;VALUE=DATE:20400920
SEQUENCE:0
TRANSP:OPAQUE
END:VEVENT
END:VCALENDAR