BEGIN:VCALENDAR
VERSION:2.0
PRODID:-//jEvents 2.0 for Joomla//EN
CALSCALE:GREGORIAN
METHOD:PUBLISH
BEGIN:VTIMEZONE
TZID:Europe/Lisbon
END:VTIMEZONE
BEGIN:VEVENT
UID:8782a004cb473034c1c6d1a8c39f6264
CATEGORIES:Santos
SUMMARY:São Januário
DESCRIPTION;ENCODING=QUOTED-PRINTABLE:
DTSTAMP:20260426T040859Z
DTSTART;TZID=Europe/Lisbon;VALUE=DATE:20320919
DTEND;TZID=Europe/Lisbon;VALUE=DATE:20320920
SEQUENCE:0
TRANSP:OPAQUE
END:VEVENT
END:VCALENDAR