BEGIN:VCALENDAR
VERSION:2.0
PRODID:-//jEvents 2.0 for Joomla//EN
CALSCALE:GREGORIAN
METHOD:PUBLISH
BEGIN:VEVENT
UID:cece3d4b84e97071e06ede122ffca881
CATEGORIES:Santos
SUMMARY:São João Macias
DESCRIPTION;ENCODING=QUOTED-PRINTABLE:
DTSTAMP:20260425T111816Z
DTSTART;TZID=Europe/Lisbon;VALUE=DATE:20400918
DTEND;TZID=Europe/Lisbon;VALUE=DATE:20400919
SEQUENCE:0
TRANSP:OPAQUE
END:VEVENT
END:VCALENDAR