BEGIN:VCALENDAR
VERSION:2.0
PRODID:-//jEvents 2.0 for Joomla//EN
CALSCALE:GREGORIAN
METHOD:PUBLISH
BEGIN:VTIMEZONE
TZID:Europe/Lisbon
END:VTIMEZONE
BEGIN:VEVENT
UID:9db2077a1e8795516a8473fbe8334bac
CATEGORIES:Santos
SUMMARY:São José de Cupertino
DESCRIPTION;ENCODING=QUOTED-PRINTABLE:
DTSTAMP:20260420T001245Z
DTSTART;TZID=Europe/Lisbon;VALUE=DATE:20220918
DTEND;TZID=Europe/Lisbon;VALUE=DATE:20220919
SEQUENCE:0
TRANSP:OPAQUE
END:VEVENT
END:VCALENDAR