BEGIN:VCALENDAR
VERSION:2.0
PRODID:-//jEvents 2.0 for Joomla//EN
CALSCALE:GREGORIAN
METHOD:PUBLISH
BEGIN:VTIMEZONE
TZID:Europe/Lisbon
END:VTIMEZONE
BEGIN:VEVENT
UID:aa7a2ef35f8d9649d8294c442e085004
CATEGORIES:Santos
SUMMARY:Impressão das Chagas de São Francisco de Assis
DESCRIPTION;ENCODING=QUOTED-PRINTABLE:
DTSTAMP:20260419T195217Z
DTSTART;TZID=Europe/Lisbon;VALUE=DATE:20230917
DTEND;TZID=Europe/Lisbon;VALUE=DATE:20230918
SEQUENCE:0
TRANSP:OPAQUE
END:VEVENT
END:VCALENDAR