BEGIN:VCALENDAR
VERSION:2.0
PRODID:-//jEvents 2.0 for Joomla//EN
CALSCALE:GREGORIAN
METHOD:PUBLISH
BEGIN:VEVENT
UID:deddfa12eb82ff99ca359180acd110a1
CATEGORIES:Santos
SUMMARY:Santo Alberto de Jerusalém
DESCRIPTION;ENCODING=QUOTED-PRINTABLE:
DTSTAMP:20260425T232601Z
DTSTART;TZID=Europe/Lisbon;VALUE=DATE:20490917
DTEND;TZID=Europe/Lisbon;VALUE=DATE:20490918
SEQUENCE:0
TRANSP:OPAQUE
END:VEVENT
END:VCALENDAR