BEGIN:VCALENDAR
VERSION:2.0
PRODID:-//jEvents 2.0 for Joomla//EN
CALSCALE:GREGORIAN
METHOD:PUBLISH
BEGIN:VTIMEZONE
TZID:Europe/Lisbon
END:VTIMEZONE
BEGIN:VEVENT
UID:deddfa12eb82ff99ca359180acd110a1
CATEGORIES:Santos
SUMMARY:Santo Alberto de Jerusalém
DESCRIPTION;ENCODING=QUOTED-PRINTABLE:
DTSTAMP:20260426T021049Z
DTSTART;TZID=Europe/Lisbon;VALUE=DATE:20350917
DTEND;TZID=Europe/Lisbon;VALUE=DATE:20350918
SEQUENCE:0
TRANSP:OPAQUE
END:VEVENT
END:VCALENDAR