BEGIN:VCALENDAR
VERSION:2.0
PRODID:-//jEvents 2.0 for Joomla//EN
CALSCALE:GREGORIAN
METHOD:PUBLISH
BEGIN:VEVENT
UID:8e4111727a29b68747c7fcacf1205a76
CATEGORIES:Santos
SUMMARY:São Hildegardo
DESCRIPTION;ENCODING=QUOTED-PRINTABLE:
DTSTAMP:20260425T164131Z
DTSTART;TZID=Europe/Lisbon;VALUE=DATE:20480917
DTEND;TZID=Europe/Lisbon;VALUE=DATE:20480918
SEQUENCE:0
TRANSP:OPAQUE
END:VEVENT
END:VCALENDAR