BEGIN:VCALENDAR
VERSION:2.0
PRODID:-//jEvents 2.0 for Joomla//EN
CALSCALE:GREGORIAN
METHOD:PUBLISH
BEGIN:VEVENT
UID:b65ca37883bfe1b250150bac8b54f976
CATEGORIES:Santos
SUMMARY:Santa Eufémia
DESCRIPTION;ENCODING=QUOTED-PRINTABLE:
DTSTAMP:20260425T125702Z
DTSTART;TZID=Europe/Lisbon;VALUE=DATE:20390916
DTEND;TZID=Europe/Lisbon;VALUE=DATE:20390917
SEQUENCE:0
TRANSP:OPAQUE
END:VEVENT
END:VCALENDAR