BEGIN:VCALENDAR
VERSION:2.0
PRODID:-//jEvents 2.0 for Joomla//EN
CALSCALE:GREGORIAN
METHOD:PUBLISH
BEGIN:VTIMEZONE
TZID:Europe/Lisbon
END:VTIMEZONE
BEGIN:VEVENT
UID:d0906be26ee7bc175959d476c7743c00
CATEGORIES:Santos
SUMMARY:São Cipriano
DESCRIPTION;ENCODING=QUOTED-PRINTABLE:
DTSTAMP:20260419T222915Z
DTSTART;TZID=Europe/Lisbon;VALUE=DATE:20260916
DTEND;TZID=Europe/Lisbon;VALUE=DATE:20260917
SEQUENCE:0
TRANSP:OPAQUE
END:VEVENT
END:VCALENDAR