BEGIN:VCALENDAR
VERSION:2.0
PRODID:-//jEvents 2.0 for Joomla//EN
CALSCALE:GREGORIAN
METHOD:PUBLISH
BEGIN:VTIMEZONE
TZID:Europe/Lisbon
END:VTIMEZONE
BEGIN:VEVENT
UID:5121c1db0200592f69abdbc2061f665d
CATEGORIES:Santos
SUMMARY:São Cornélio
DESCRIPTION;ENCODING=QUOTED-PRINTABLE:
DTSTAMP:20260425T135015Z
DTSTART;TZID=Europe/Lisbon;VALUE=DATE:20370916
DTEND;TZID=Europe/Lisbon;VALUE=DATE:20370917
SEQUENCE:0
TRANSP:OPAQUE
END:VEVENT
END:VCALENDAR