BEGIN:VCALENDAR
VERSION:2.0
PRODID:-//jEvents 2.0 for Joomla//EN
CALSCALE:GREGORIAN
METHOD:PUBLISH
BEGIN:VTIMEZONE
TZID:Europe/Lisbon
END:VTIMEZONE
BEGIN:VEVENT
UID:cf97e40cbc64d3186d8f9b731011a11f
CATEGORIES:Santos
SUMMARY:Exaltação da Santa Cruz
DESCRIPTION;ENCODING=QUOTED-PRINTABLE:
DTSTAMP:20260425T231527Z
DTSTART;TZID=Europe/Lisbon;VALUE=DATE:20330914
DTEND;TZID=Europe/Lisbon;VALUE=DATE:20330915
SEQUENCE:0
TRANSP:OPAQUE
END:VEVENT
END:VCALENDAR