BEGIN:VCALENDAR
VERSION:2.0
PRODID:-//jEvents 2.0 for Joomla//EN
CALSCALE:GREGORIAN
METHOD:PUBLISH
BEGIN:VTIMEZONE
TZID:Europe/Lisbon
END:VTIMEZONE
BEGIN:VEVENT
UID:e5765051482b57c9f2ea8d68b670936e
CATEGORIES:Santos
SUMMARY:São João Crisóstomo
DESCRIPTION;ENCODING=QUOTED-PRINTABLE:
DTSTAMP:20260419T145716Z
DTSTART;TZID=Europe/Lisbon;VALUE=DATE:20250913
DTEND;TZID=Europe/Lisbon;VALUE=DATE:20250914
SEQUENCE:0
TRANSP:OPAQUE
END:VEVENT
END:VCALENDAR