BEGIN:VCALENDAR
VERSION:2.0
PRODID:-//jEvents 2.0 for Joomla//EN
CALSCALE:GREGORIAN
METHOD:PUBLISH
BEGIN:VTIMEZONE
TZID:Europe/Lisbon
END:VTIMEZONE
BEGIN:VEVENT
UID:43793d331a07114ef3ade05d16f9f56a
CATEGORIES:Santos
SUMMARY:Beata Maria de Jesus López de Rivas
DESCRIPTION;ENCODING=QUOTED-PRINTABLE:
DTSTAMP:20260420T090533Z
DTSTART;TZID=Europe/Lisbon;VALUE=DATE:20280912
DTEND;TZID=Europe/Lisbon;VALUE=DATE:20280913
SEQUENCE:0
TRANSP:OPAQUE
END:VEVENT
END:VCALENDAR