BEGIN:VCALENDAR
VERSION:2.0
PRODID:-//jEvents 2.0 for Joomla//EN
CALSCALE:GREGORIAN
METHOD:PUBLISH
BEGIN:VEVENT
UID:354cdb39050ca866cf9a2cccb5cf8fda
CATEGORIES:Santos
SUMMARY:Santíssimo Nome de Maria
DESCRIPTION;ENCODING=QUOTED-PRINTABLE:
DTSTAMP:20260426T045302Z
DTSTART;TZID=Europe/Lisbon;VALUE=DATE:20490912
DTEND;TZID=Europe/Lisbon;VALUE=DATE:20490913
SEQUENCE:0
TRANSP:OPAQUE
END:VEVENT
END:VCALENDAR