BEGIN:VCALENDAR
VERSION:2.0
PRODID:-//jEvents 2.0 for Joomla//EN
CALSCALE:GREGORIAN
METHOD:PUBLISH
BEGIN:VTIMEZONE
TZID:Europe/Lisbon
END:VTIMEZONE
BEGIN:VEVENT
UID:354cdb39050ca866cf9a2cccb5cf8fda
CATEGORIES:Santos
SUMMARY:Santíssimo Nome de Maria
DESCRIPTION;ENCODING=QUOTED-PRINTABLE:
DTSTAMP:20260426T052834Z
DTSTART;TZID=Europe/Lisbon;VALUE=DATE:20360912
DTEND;TZID=Europe/Lisbon;VALUE=DATE:20360913
SEQUENCE:0
TRANSP:OPAQUE
END:VEVENT
END:VCALENDAR