BEGIN:VCALENDAR
VERSION:2.0
PRODID:-//jEvents 2.0 for Joomla//EN
CALSCALE:GREGORIAN
METHOD:PUBLISH
BEGIN:VTIMEZONE
TZID:Europe/Lisbon
END:VTIMEZONE
BEGIN:VEVENT
UID:f1edaa37decd04071d282ca63bc9242c
CATEGORIES:Santos
SUMMARY:São João Gabriel Perboyre
DESCRIPTION;ENCODING=QUOTED-PRINTABLE:
DTSTAMP:20260421T004236Z
DTSTART;TZID=Europe/Lisbon;VALUE=DATE:20241204
DTEND;TZID=Europe/Lisbon;VALUE=DATE:20241205
SEQUENCE:0
TRANSP:OPAQUE
END:VEVENT
END:VCALENDAR