BEGIN:VCALENDAR
VERSION:2.0
PRODID:-//jEvents 2.0 for Joomla//EN
CALSCALE:GREGORIAN
METHOD:PUBLISH
BEGIN:VTIMEZONE
TZID:Europe/Lisbon
END:VTIMEZONE
BEGIN:VEVENT
UID:180e4afcac925c13ca9f4a34961668b1
CATEGORIES:Santos
SUMMARY:Beato Francisco Gárate
DESCRIPTION;ENCODING=QUOTED-PRINTABLE:
DTSTAMP:20260420T090909Z
DTSTART;TZID=Europe/Lisbon;VALUE=DATE:20280910
DTEND;TZID=Europe/Lisbon;VALUE=DATE:20280911
SEQUENCE:0
TRANSP:OPAQUE
END:VEVENT
END:VCALENDAR