BEGIN:VCALENDAR
VERSION:2.0
PRODID:-//jEvents 2.0 for Joomla//EN
CALSCALE:GREGORIAN
METHOD:PUBLISH
BEGIN:VTIMEZONE
TZID:Europe/Lisbon
END:VTIMEZONE
BEGIN:VEVENT
UID:8afa10dec99ba73427bcd45c741e2a28
CATEGORIES:Santos
SUMMARY:São Nicolau de Tolentino
DESCRIPTION;ENCODING=QUOTED-PRINTABLE:
DTSTAMP:20260425T200019Z
DTSTART;TZID=Europe/Lisbon;VALUE=DATE:20380910
DTEND;TZID=Europe/Lisbon;VALUE=DATE:20380911
SEQUENCE:0
TRANSP:OPAQUE
END:VEVENT
END:VCALENDAR