BEGIN:VCALENDAR
VERSION:2.0
PRODID:-//jEvents 2.0 for Joomla//EN
CALSCALE:GREGORIAN
METHOD:PUBLISH
BEGIN:VEVENT
UID:38df5a6da518ef53d034e9aee5be43e0
CATEGORIES:Santos
SUMMARY:Nª Srª dos Remédios
DESCRIPTION;ENCODING=QUOTED-PRINTABLE:
DTSTAMP:20260426T041404Z
DTSTART;TZID=Europe/Lisbon;VALUE=DATE:20490908
DTEND;TZID=Europe/Lisbon;VALUE=DATE:20490909
SEQUENCE:0
TRANSP:OPAQUE
END:VEVENT
END:VCALENDAR