BEGIN:VCALENDAR
VERSION:2.0
PRODID:-//jEvents 2.0 for Joomla//EN
CALSCALE:GREGORIAN
METHOD:PUBLISH
BEGIN:VTIMEZONE
TZID:Europe/Lisbon
END:VTIMEZONE
BEGIN:VEVENT
UID:400fc158b30d86dbc366568abd283e86
CATEGORIES:Santos
SUMMARY:Natividade da Virgem Santa Maria 
DESCRIPTION;ENCODING=QUOTED-PRINTABLE:
DTSTAMP:20260420T090657Z
DTSTART;TZID=Europe/Lisbon;VALUE=DATE:20280908
DTEND;TZID=Europe/Lisbon;VALUE=DATE:20280909
SEQUENCE:0
TRANSP:OPAQUE
END:VEVENT
END:VCALENDAR