BEGIN:VCALENDAR
VERSION:2.0
PRODID:-//jEvents 2.0 for Joomla//EN
CALSCALE:GREGORIAN
METHOD:PUBLISH
BEGIN:VTIMEZONE
TZID:Europe/Lisbon
END:VTIMEZONE
BEGIN:VEVENT
UID:21fcd5c621ecd0e4b9ead8f4d9f7bd15
CATEGORIES:Santos
SUMMARY:António Ozanam
DESCRIPTION;ENCODING=QUOTED-PRINTABLE:
DTSTAMP:20260425T192301Z
DTSTART;TZID=Europe/Lisbon;VALUE=DATE:20360907
DTEND;TZID=Europe/Lisbon;VALUE=DATE:20360908
SEQUENCE:0
TRANSP:OPAQUE
END:VEVENT
END:VCALENDAR