BEGIN:VCALENDAR
VERSION:2.0
PRODID:-//jEvents 2.0 for Joomla//EN
CALSCALE:GREGORIAN
METHOD:PUBLISH
BEGIN:VEVENT
UID:9d7e2fcb9d68c3f051d39c355ba6f10c
CATEGORIES:Santos
SUMMARY:Mártires Kosice
DESCRIPTION;ENCODING=QUOTED-PRINTABLE:
DTSTAMP:20260425T130052Z
DTSTART;TZID=Europe/Lisbon;VALUE=DATE:20410907
DTEND;TZID=Europe/Lisbon;VALUE=DATE:20410908
SEQUENCE:0
TRANSP:OPAQUE
END:VEVENT
END:VCALENDAR